BEGIN:VCALENDAR
VERSION:2.0
METHOD:PUBLISH
BEGIN:VEVENT
DTSTART:20191121T090000
DTEND:20191121T130000
LOCATION:Nowy Styl Showroom Gottlieba Daimlera 1​  Warszawa
TRANSP: OPAQUE
SEQUENCE:0
UID:
DTSTAMP:20260419T143416Z
SUMMARY:GBS LIONS' TALKS- śniadanie biznesowe w Warszawie
DESCRIPTION:Na pierwszy rzut oka zarządzanie wiedzą może wydawać się dziecinnie proste. Jednak ci najlepsi dobrze wiedzą, że należy "kopać głębiej". Wraz z ABSL, mamy przyjemność zaprosić......
URL:https://app.evenea.pl/event/gbslionstalkswarsaw/
PRIORITY:1
CLASS:PUBLIC
END:VEVENT
END:VCALENDAR
