BEGIN:VCALENDAR
VERSION:2.0
METHOD:PUBLISH
BEGIN:VEVENT
DTSTART:20160704T163000
DTEND:20160704T203000
LOCATION:Pomorski Park Naukowo-Technologiczny Gdynia | budynek IV | sala F.017 Al. Zwycięstwa 96/98  Gdynia
TRANSP: OPAQUE
SEQUENCE:0
UID:
DTSTAMP:20260424T152357Z
SUMMARY:GDD2016 I Odzyskajmy design dla ludzi I warsztaty
DESCRIPTION:Odzyskajmy design dla ludzi - Trójmiasto moderatorem dialogu o projektowaniu w krajach bałtyckichDesign - słowo z ogromny potencjałem budzące skrajne emocje. Wierzymy w jego moc scalania i......
URL:https://app.evenea.pl/event/gdd2016-odzyskajmy-design/
PRIORITY:1
CLASS:PUBLIC
END:VEVENT
END:VCALENDAR
