BEGIN:VCALENDAR
VERSION:2.0
METHOD:PUBLISH
BEGIN:VEVENT
DTSTART:20190930T180000
DTEND:20190930T180000
LOCATION:Muzeum Polskiej Wódki Plac Konesera 1, 03-736  Warszawa
TRANSP: OPAQUE
SEQUENCE:0
UID:
DTSTAMP:20260422T080523Z
SUMMARY:#Hiddennomore - advance women in STEM across the borders
DESCRIPTION:This autumn we're focusing on the topic of developing a career in IT. That's why we decided to invite our friends, STEM experts from Switzerland, Georgia, Iceland, and Kosovo to share our stories......
URL:https://app.evenea.pl/event/ggc-warszawa-hiddennomore/
PRIORITY:1
CLASS:PUBLIC
END:VEVENT
END:VCALENDAR
