BEGIN:VCALENDAR
VERSION:2.0
METHOD:PUBLISH
BEGIN:VEVENT
DTSTART:20191121T180000
DTEND:20191121T180000
LOCATION:Przestrzeń From Facebook Koszykowa 61  Warszawa
TRANSP: OPAQUE
SEQUENCE:0
UID:
DTSTAMP:20260424T184205Z
SUMMARY:Geek Girls Carrots 8th Birthday
DESCRIPTION:To już ósme urodziny Karotek! Mamy nadzieję, że będziecie świętować je razem z nami!Kolejne urodziny to również okazja do poruszenia tematu ważnego dla naszej społeczności. Tym razem......
URL:https://app.evenea.pl/event/ggc-warszawa-urodziny8/
PRIORITY:1
CLASS:PUBLIC
END:VEVENT
END:VCALENDAR
