BEGIN:VCALENDAR
VERSION:2.0
METHOD:PUBLISH
BEGIN:VEVENT
DTSTART:20201212T200000
DTEND:20201212T200000
LOCATION:Kolonia Artystów Aleja Grunwaldzka 51  Gdańsk
TRANSP: OPAQUE
SEQUENCE:0
UID:
DTSTAMP:20260423T191526Z
SUMMARY:Giorgio Fazer gra Durnia
DESCRIPTION:12-go grudnia o godz. 20:00, duet Giorgio Fazer zagra koncert będący jedynym w swoim rodzaju soundtrackiem do wyjątkowego filmu "Dureń" animatorki Karoliny Głusiec."Miron Grzegorkiewicz i......
URL:https://app.evenea.pl/event/giorgio/
PRIORITY:1
CLASS:PUBLIC
END:VEVENT
END:VCALENDAR
