BEGIN:VCALENDAR
VERSION:2.0
METHOD:PUBLISH
BEGIN:VEVENT
DTSTART:20211120T200000
DTEND:20211120T200000
LOCATION:Kolonia Artystów Aleja Grunwaldzka 51  Gdańsk
TRANSP: OPAQUE
SEQUENCE:0
UID:
DTSTAMP:20260423T180355Z
SUMMARY:Giorgio Fazer + wniwecz - seans spirytystyczny.
DESCRIPTION:W dniu 20.11.2021 o godzinie 20:00 zapraszamy na seans spirytystyczny Giorgio Fazer (+ wniwecz).Kolonia / Gdańsk / Wrzeszcz. Bilety 20/30 na portalu https://app.evenea.pl/event/giorgio/Giorgio......
URL:https://app.evenea.pl/event/giorgiof/
PRIORITY:1
CLASS:PUBLIC
END:VEVENT
END:VCALENDAR
