BEGIN:VCALENDAR
VERSION:2.0
METHOD:PUBLISH
BEGIN:VEVENT
DTSTART:20250905T170000
DTEND:20250905T170000
LOCATION:PreZero Arena Gliwice - Mała Arena Akademicka 50  Gliwice
TRANSP: OPAQUE
SEQUENCE:0
UID:
DTSTAMP:20260426T040249Z
SUMMARY:Gala wręczenia Gliwickiej Nagrody Literackiej
DESCRIPTION:5 września 2025 roku o godz. 17.00 w PreZero Arenie Gliwice (Mała Arena, ul. Akademicka 50) odbędzie się uroczysta gala pierwszej edycji Gliwickiej Nagrody Literackiej. To ogólnopolski program......
URL:https://app.evenea.pl/event/gliwickaliteracka/
PRIORITY:1
CLASS:PUBLIC
END:VEVENT
END:VCALENDAR
