BEGIN:VCALENDAR
VERSION:2.0
METHOD:PUBLISH
BEGIN:VEVENT
DTSTART:20250905T190000
DTEND:20250905T190000
LOCATION:PreZero Arena Gliwice - Sala Gemini Akademicka 50  Gliwice
TRANSP: OPAQUE
SEQUENCE:0
UID:
DTSTAMP:20260426T022305Z
SUMMARY:Gala Gliwickiej Nagrody Literackiej - podpisywanie książek przez Olgę Tokarczuk
DESCRIPTION:Po zakończeniu gali Gliwickiej Nagrody Literackiej zapraszamy do Sali Gemini w PreZero Arenie Gliwice na wydarzenie towarzyszące - podpisywanie książek przez Olgę Tokarczuk. Będzie to......
URL:https://app.evenea.pl/event/gliwickaliterackaautografy/
PRIORITY:1
CLASS:PUBLIC
END:VEVENT
END:VCALENDAR
