BEGIN:VCALENDAR
VERSION:2.0
METHOD:PUBLISH
BEGIN:VEVENT
DTSTART:20250204T100000
DTEND:20250204T130000
LOCATION:Regionalna Izba Gospodarcza w Katowicach Opolska 15  Katowice
TRANSP: OPAQUE
SEQUENCE:0
UID:
DTSTAMP:20260422T145655Z
SUMMARY:GO EXPORT - poznaj możliwości eksportu B2B z Alibaba.com
DESCRIPTION:Otwórz się na globalny rynek z Alibaba.com!\n\n	Dołącz do wyjątkowego wydarzenia już 4 lutego!\n\n\n\n	Czy chcesz rozwijać swoją firmę i zdobyć klientów na całym świecie? To Twoja......
URL:https://app.evenea.pl/event/go-export/
PRIORITY:1
CLASS:PUBLIC
END:VEVENT
END:VCALENDAR
