BEGIN:VCALENDAR
VERSION:2.0
METHOD:PUBLISH
BEGIN:VEVENT
DTSTART:20191002T084500
DTEND:20191005T130000
LOCATION:Politechnika Lubelska Nadbystrzycka 36B  Lublin
TRANSP: OPAQUE
SEQUENCE:0
UID:
DTSTAMP:20260423T095810Z
SUMMARY:IT talk: Golang Course
DESCRIPTION:Cześć! Zapraszamy na kurs Golang organizowany na początku października (2.10 i 5.10.2019) przez GDG Lublin, WTM Lublin oraz DataArt. Golang to stosunkowo nowy język programowania open source,......
URL:https://app.evenea.pl/event/golang2019/
PRIORITY:1
CLASS:PUBLIC
END:VEVENT
END:VCALENDAR
