BEGIN:VCALENDAR
VERSION:2.0
METHOD:PUBLISH
BEGIN:VEVENT
DTSTART:20240122T170000
DTEND:20240122T170000
LOCATION:Centrum Edukacji Ekologicznej - Egzotarium w Sosnowcu. ul. Piłsudskiego 116  41-200 Sosnowiec
TRANSP: OPAQUE
SEQUENCE:0
UID:
DTSTAMP:20260419T192539Z
SUMMARY:Gospodarcze Otwarcie Roku połączone z otwartym spotkaniem Firm Członkowskich
DESCRIPTION:RIG w Katowicach wspólnie z Miastem Sosnowiec zapraszają na pierwsze w tym roku wydarzenie - Gospodarcze Otwarcie Roku połączone z otwartym spotkaniem Firm Członkowskich, które odbędzie się......
URL:https://app.evenea.pl/event/gor2024/
PRIORITY:1
CLASS:PUBLIC
END:VEVENT
END:VCALENDAR
