BEGIN:VCALENDAR
VERSION:2.0
METHOD:PUBLISH
BEGIN:VEVENT
DTSTART:20220622T183000
DTEND:20220622T183000
LOCATION:Instytut Cervantesa w Warszawie ul. Nowogrodzka 22  00-511 Warszawa
TRANSP: OPAQUE
SEQUENCE:0
UID:
DTSTAMP:20260421T224448Z
SUMMARY:Spotkanie: Goya i komiks
DESCRIPTION:[PL] Na zakończenie wystawy "Goya fizjonomista", pragniemy przybliżyć publiczności postać samego Goi oraz spojrzeć na jego twórczość z punktu widzenia współczesnych artystów, autorów......
URL:https://app.evenea.pl/event/goyaikomiks/
PRIORITY:1
CLASS:PUBLIC
END:VEVENT
END:VCALENDAR
