BEGIN:VCALENDAR
VERSION:2.0
METHOD:PUBLISH
BEGIN:VEVENT
DTSTART:20221019T180000
DTEND:20221019T180000
LOCATION:Goyki 3 Art Inkubator Goyki 3  Sopot
TRANSP: OPAQUE
SEQUENCE:0
UID:
DTSTAMP:20260421T010823Z
SUMMARY:#Goyki3Lab. Czy inny internet jest możliwy?
DESCRIPTION:#Goyki3Lab. Czy inny Internet jest możliwy?Gościniami siódmej debaty z cyklu #Goyki3Lab będą: Magda Gacyk i Joanna Murzyn. Spotkanie poprowadzi Bartek Frąckowiak.Zapraszamy do uczestnictwa......
URL:https://app.evenea.pl/event/goyki3lab7/
PRIORITY:1
CLASS:PUBLIC
END:VEVENT
END:VCALENDAR
