BEGIN:VCALENDAR
VERSION:2.0
METHOD:PUBLISH
BEGIN:VEVENT
DTSTART:20210210T140000
DTEND:20210210T160000
LOCATION:online   
TRANSP: OPAQUE
SEQUENCE:0
UID:
DTSTAMP:20260423T153132Z
SUMMARY:WEBINAR: Jak zwiększyliśmy o ponad 200% skuteczność wniosków o dofinansowanie na B+R w konkursie Szybka ścieżka?
DESCRIPTION:Co zrobić, aby otrzymać dofinansowanie w konkursie Szybka ścieżka? Jakie są kluczowe czynniki sukcesu? Czy jednostki naukowe odgrywają istotną rolę? Co kryje się pod pojęciem innowacji i......
URL:https://app.evenea.pl/event/granteraszybkasciezka/
PRIORITY:1
CLASS:PUBLIC
END:VEVENT
END:VCALENDAR
