BEGIN:VCALENDAR
VERSION:2.0
METHOD:PUBLISH
BEGIN:VEVENT
DTSTART:20240313T143000
DTEND:20240313T180000
LOCATION:Uniwersytecki Inkubator Przedsiębiorczości inQUBE Wielka 67  Wrocław
TRANSP: OPAQUE
SEQUENCE:0
UID:
DTSTAMP:20260419T205728Z
SUMMARY:Gra zespołowa - Friday Night at the ER
DESCRIPTION:Zapraszamy serdecznie do darmowego udziału w Friday Night at the ER - empirycznej grze zespołowej, w której gracze wchodzą w rolę menadżerów 4 głównych działów szpitala. Gra ma na celu......
URL:https://app.evenea.pl/event/grazespolowaer/
PRIORITY:1
CLASS:PUBLIC
END:VEVENT
END:VCALENDAR
