BEGIN:VCALENDAR
VERSION:2.0
METHOD:PUBLISH
BEGIN:VEVENT
DTSTART:20230620T170000
DTEND:20230620T193000
LOCATION:Politechnika Wrocławska ul. Na Grobli 12 bud. L3 sala 0.21  Wrocław
TRANSP: OPAQUE
SEQUENCE:0
UID:
DTSTAMP:20260420T152130Z
SUMMARY:Demo Day GROW UP TECH#2
DESCRIPTION:Zapraszamy na Demo Day programu GROW UP TECH#2 w dniu 20 czerwca w godz. 17:00-19:00 w siedzibie Inkubatora Politechniki WrocławskiejTo okazja do zapoznania się z projektami biznesowymi z......
URL:https://app.evenea.pl/event/growuptechdemoday/
PRIORITY:1
CLASS:PUBLIC
END:VEVENT
END:VCALENDAR
