BEGIN:VCALENDAR
VERSION:2.0
METHOD:PUBLISH
BEGIN:VEVENT
DTSTART:20220622T170000
DTEND:20220622T183000
LOCATION:OsiemPrzezDwa Jazdów 8/2  Warszawa
TRANSP: OPAQUE
SEQUENCE:0
UID:
DTSTAMP:20260422T235711Z
SUMMARY:Rozwijalnia: zabawy i ćwiczenia z gumizelą
DESCRIPTION:\n\n	\n\n	*Rozwijalnia to cykl warsztatów\n\nrozwojowych dla trenerów, edukatorów, animatorów i nauczycieli. Zanurzamy się \n\nw nurt \n\n	experiential/outdoor/adventure education. Nie macie......
URL:https://app.evenea.pl/event/gumizelavi22/
PRIORITY:1
CLASS:PUBLIC
END:VEVENT
END:VCALENDAR
