BEGIN:VCALENDAR
VERSION:2.0
METHOD:PUBLISH
BEGIN:VEVENT
DTSTART:20241219T173000
DTEND:20241219T190000
LOCATION:Centrum Edukacji i Wsparcia os. Górali 24  Kraków
TRANSP: OPAQUE
SEQUENCE:0
UID:
DTSTAMP:20260422T224041Z
SUMMARY:Wykonywanie gwiazdy kolędniczej na Pochód | Making a Caroling Star for the Procession | Виготовлення різдвяної зірки для Ходи Колядників
DESCRIPTION:Żywa Pracownia zaprasza na warsztaty wykonywania gwiazdy kolędniczej przed pochodem IV Żywej Kolędy Podgórskiej ✨, która już 28 grudnia rozbrzmi w Krakowie!Gwiazda kolędnicza to coś......
URL:https://app.evenea.pl/event/gwiazdakolednicza1912/
PRIORITY:1
CLASS:PUBLIC
END:VEVENT
END:VCALENDAR
