BEGIN:VCALENDAR
VERSION:2.0
METHOD:PUBLISH
BEGIN:VEVENT
DTSTART:20230602T170000
DTEND:20230604T200000
LOCATION:Gdański Park Naukowo - Technologiczny Trzy Lipy 3  GDAŃSK
TRANSP: OPAQUE
SEQUENCE:0
UID:
DTSTAMP:20260423T004337Z
SUMMARY:Hack4change CZERWIEC 2023
DESCRIPTION:Czy technologia idzie w parze z ekologią? Zdecydowanie tak! Skąd to wiemy? Po pierwsze mamy doświadczenie😉 Po drugie, współczesne problemy otaczającego nas świata, nie mogą obejść się......
URL:https://app.evenea.pl/event/hack4change2023/
PRIORITY:1
CLASS:PUBLIC
END:VEVENT
END:VCALENDAR
