BEGIN:VCALENDAR
VERSION:2.0
METHOD:PUBLISH
BEGIN:VEVENT
DTSTART:20230527T100000
DTEND:20230527T130000
LOCATION:Słupski Inkubator Technologiczny Portowa 13  Słupsk
TRANSP: OPAQUE
SEQUENCE:0
UID:
DTSTAMP:20260423T020846Z
SUMMARY:Słupsk Hack4change 2023 - warsztaty
DESCRIPTION:Edycja 2023Warsztaty dla dzieci i młodzieży w Słupskim Inkubatorze Technologicznym!Co roku, organizatorzy Hack4change, organizują edukacyjne wydarzenia, nawiązujące do problemów hackathonu.......
URL:https://app.evenea.pl/event/hack4change2023slupskwarsztaty/
PRIORITY:1
CLASS:PUBLIC
END:VEVENT
END:VCALENDAR
