BEGIN:VCALENDAR
VERSION:2.0
METHOD:PUBLISH
BEGIN:VEVENT
DTSTART:20230515T070000
DTEND:20230601T150000
LOCATION:Online | Gdański Park Naukowo-Technologiczny Trzy Lipy 3  Gdańsk
TRANSP: OPAQUE
SEQUENCE:0
UID:
DTSTAMP:20260423T020702Z
SUMMARY:Hack4change 2023 - webinaria i warsztaty
DESCRIPTION:Edycja 2023Czy chcesz dowiedzieć się, czy technologia idzie w parze z ekologią, dobrostanem człowieka i naturą?Koniecznie weź udział w naszych spotkaniach, organizowanych w ramach......
URL:https://app.evenea.pl/event/hack4change2023webinaria/
PRIORITY:1
CLASS:PUBLIC
END:VEVENT
END:VCALENDAR
