BEGIN:VCALENDAR
VERSION:2.0
METHOD:PUBLISH
BEGIN:VEVENT
DTSTART:20230916T170000
DTEND:20230917T170000
LOCATION:Akademia Techniczno-Humanistyczna w Bielsku-Białej (bud. L) ul. Willowa 2  Bielsko-Biała
TRANSP: OPAQUE
SEQUENCE:0
UID:
DTSTAMP:20260421T203908Z
SUMMARY:HackBB - BBDays4.IT Hackathon
DESCRIPTION:BBDays4.IT to prawdopodobnie najdłuższy festiwal technologiczny w Polsce, podczas którego firmy IT wspólnie z miejskim samorządem, Akademią Techniczno-Humanistyczną w Bielsku-Białej oraz......
URL:https://app.evenea.pl/event/hackbb/
PRIORITY:1
CLASS:PUBLIC
END:VEVENT
END:VCALENDAR
