BEGIN:VCALENDAR
VERSION:2.0
METHOD:PUBLISH
BEGIN:VEVENT
DTSTART:20250322T090000
DTEND:20250323T170000
LOCATION:Franklin Templeton Investments Nowy Rynek, Ul. Przemysłowa 3  61-579 Poznań
TRANSP: OPAQUE
SEQUENCE:0
UID:
DTSTAMP:20260422T200106Z
SUMMARY:Hack of Tomorrow Hackathon
DESCRIPTION:Join us for an exciting AI Agents Hackathon, where you'll collaborate with fellow innovators to develop cutting-edge AI solutions that solve real life business problems. Whether you're a seasoned......
URL:https://app.evenea.pl/event/hackoftomorrow/
PRIORITY:1
CLASS:PUBLIC
END:VEVENT
END:VCALENDAR
