BEGIN:VCALENDAR
VERSION:2.0
METHOD:PUBLISH
BEGIN:VEVENT
DTSTART:20201127T174500
DTEND:20201129T170000
LOCATION:   
TRANSP: OPAQUE
SEQUENCE:0
UID:
DTSTAMP:20260423T025101Z
SUMMARY:HackYeah Live
DESCRIPTION:\n\n	HackYeah is the biggest hackathon in Europe - the last stationary edition gathered over 2500 people from all branches! This years edition will take place in cyberspace, in order to provide you......
URL:https://app.evenea.pl/event/hackyeah-2020live/
PRIORITY:1
CLASS:PUBLIC
END:VEVENT
END:VCALENDAR
