BEGIN:VCALENDAR
VERSION:2.0
METHOD:PUBLISH
BEGIN:VEVENT
DTSTART:20190914T150000
DTEND:20190914T163000
LOCATION:PTAK WARSAW EXPO   Warszawa
TRANSP: OPAQUE
SEQUENCE:0
UID:
DTSTAMP:20260420T011945Z
SUMMARY:HackYeah! BGK Workshop - Connect the dots!
DESCRIPTION:\n\n	POŁĄCZ KROPKI - CZYLI CO WE WDROŻENIU MOŻE PÓJŚĆ ŹLE?\n\n\n\n	Pamiętasz taką zabawę z dzieciństwa: prowadzisz linię przez kolejno numerowane kropki, aż powstanie rysunek? W......
URL:https://app.evenea.pl/event/hackyeah2019-bgkworkshop/
PRIORITY:1
CLASS:PUBLIC
END:VEVENT
END:VCALENDAR
