BEGIN:VCALENDAR
VERSION:2.0
METHOD:PUBLISH
BEGIN:VEVENT
DTSTART:20190914T120000
DTEND:20190915T160000
LOCATION:   Warszawa
TRANSP: OPAQUE
SEQUENCE:0
UID:
DTSTAMP:20260419T160854Z
SUMMARY:HackYeah! TRAINS 2019
DESCRIPTION:REGISTER NOW AND OUR PARTNER WILL GET YOU TO WARSAW AND BACK FOR FREE!Together with PKP Intercity we will provide free train tickets to Warsaw and back. The ticket will be valid only at the time......
URL:https://app.evenea.pl/event/hackyeahtrains/
PRIORITY:1
CLASS:PUBLIC
END:VEVENT
END:VCALENDAR
