BEGIN:VCALENDAR
VERSION:2.0
METHOD:PUBLISH
BEGIN:VEVENT
DTSTART:20241031T193000
DTEND:20251101T110000
LOCATION:Sala Zabaw Dzikie Pląsy ul. Klasyczna 2/2  Borkowo
TRANSP: OPAQUE
SEQUENCE:0
UID:
DTSTAMP:20260424T091606Z
SUMMARY:Halloween Party Nocowanka (9-12 lat) Borkowo
DESCRIPTION:Halloweenowa nocowanka nadchodzi. Zamierzamy dziko imprezować, dyniowo, kolorowo, szaleńczo, złowrogo, a niekiedy złowieszczo, drapieżnie, z pazurem (kocim oczywiście), ale przede wszystkim......
URL:https://app.evenea.pl/event/halloween-party-2025/
PRIORITY:1
CLASS:PUBLIC
END:VEVENT
END:VCALENDAR
