BEGIN:VCALENDAR
VERSION:2.0
METHOD:PUBLISH
BEGIN:VEVENT
DTSTART:20190905T173000
DTEND:20190905T193000
LOCATION:PPNT Gdynia, budynek III, coworking Al.Zwycięstwa, 96/98  Gdynia
TRANSP: OPAQUE
SEQUENCE:0
UID:
DTSTAMP:20260423T104117Z
SUMMARY:Halo Policja? Proszę przyjechać na Facebooka...
DESCRIPTION:Ciężko wyobrazić sobie dzisiaj marketing bez promocji w Internecie. Portale społecznościowe z Facebookiem na czele na stałe weszły do naszego życia. Jednocześnie - mało kto zna ich......
URL:https://app.evenea.pl/event/halopolicja/
PRIORITY:1
CLASS:PUBLIC
END:VEVENT
END:VCALENDAR
