BEGIN:VCALENDAR
VERSION:2.0
METHOD:PUBLISH
BEGIN:VEVENT
DTSTART:20240524T170000
DTEND:20240524T170000
LOCATION:Biblioteka UKW ul. Karola Szymanowskiego 3  Bydgoszcz
TRANSP: OPAQUE
SEQUENCE:0
UID:
DTSTAMP:20260421T161520Z
SUMMARY:Spotkanie z Hanną Szczukowską-Białys na Festiwalu Nowe Spojrzenie
DESCRIPTION:Urodzona w 1986 roku, doktor nauk rolniczych w specjalności zootechnika, absolwentka Politechniki Bydgoskiej oraz UE Erasmus w Erciyes University w Kayseri (Turcja).Zawodowo: od 2015 roku szef......
URL:https://app.evenea.pl/event/hanna-szczukowska-bialys/
PRIORITY:1
CLASS:PUBLIC
END:VEVENT
END:VCALENDAR
