BEGIN:VCALENDAR
VERSION:2.0
METHOD:PUBLISH
BEGIN:VEVENT
DTSTART:20251120T180000
DTEND:20251120T180000
LOCATION:Inkubator Przedsiębiorczości inQUBE ul. Wielka 67  Wrocław
TRANSP: OPAQUE
SEQUENCE:0
UID:
DTSTAMP:20260426T012120Z
SUMMARY:Hanza meet up club #3 - Biznes, Startupy, Wyzwania
DESCRIPTION:O wydarzeniu\n\n	🚀 Zapraszamy na trzecie spotkanie z cyklu "Hanza MeetUp Club", czyli kontynuację zeszłorocznego cyklu spotkań "Biznes, Kariera, Absolwenci", w odsłonie \n\n	outbound......
URL:https://app.evenea.pl/event/hanza-club-3/
PRIORITY:1
CLASS:PUBLIC
END:VEVENT
END:VCALENDAR
