BEGIN:VCALENDAR
VERSION:2.0
METHOD:PUBLISH
BEGIN:VEVENT
DTSTART:20240408T163000
DTEND:20240408T173000
LOCATION:Miejsce Otwarte. Centrum Integracji Międzykulturowej. Kraków os. Górali 24  Kraków
TRANSP: OPAQUE
SEQUENCE:0
UID:
DTSTAMP:20260423T045502Z
SUMMARY:"Have fun with English"  Angielski dla dzieci (7-10 lat) | English for children (7-10 y.o)| Англійська для дітей (7-10 р.)
DESCRIPTION:Grupa wiekowa: 7-10 lat Język prowadzenia: angielski, ukraińskiPL/ENG/UAZapraszamy dzieci w wieku od 7 do 10 lat na zajęcia z angielskiego "Have Fun with English"!Zapewniamy nie tylko skuteczną......
URL:https://app.evenea.pl/event/havefunwithenglish0804/
PRIORITY:1
CLASS:PUBLIC
END:VEVENT
END:VCALENDAR
