BEGIN:VCALENDAR
VERSION:2.0
METHOD:PUBLISH
BEGIN:VEVENT
DTSTART:20241128T100000
DTEND:20241128T100000
LOCATION:Park Hotel Diament Katowice Wita Stwosza 37  40-042 Katowice
TRANSP: OPAQUE
SEQUENCE:0
UID:
DTSTAMP:20260423T013301Z
SUMMARY:Health Business Innovations 2024
DESCRIPTION:HBI #3 - ogólnopolska konferencja dla właścicieli i osób zarządzających firmami, szpitalami oraz organizacjami na rynku zdrowia w Polsce. \n\n Idea HBI: \n\n\n\n	Inspiracja - będziemy......
URL:https://app.evenea.pl/event/hbi2024/
PRIORITY:1
CLASS:PUBLIC
END:VEVENT
END:VCALENDAR
