BEGIN:VCALENDAR
VERSION:2.0
METHOD:PUBLISH
BEGIN:VEVENT
DTSTART:20260312T173000
DTEND:20260312T173000
LOCATION:Miejski Ośrodek Kultury w Gnieźnie ul. Łubieńskiego 11  Gniezno
TRANSP: OPAQUE
SEQUENCE:0
UID:
DTSTAMP:20260420T112136Z
SUMMARY:Hewelisz - Prawdziwa Historia
DESCRIPTION:Już 12 marca o godzinie 17:30 Miejski Ośrodek Kultury w Gnieźnie stanie się miejscem niezwykłego spotkania autorskiego. Gościem specjalnym będzie Roman Czejarek - legendarny dziennikarz......
URL:https://app.evenea.pl/event/heweliusz/
PRIORITY:1
CLASS:PUBLIC
END:VEVENT
END:VCALENDAR
