BEGIN:VCALENDAR
VERSION:2.0
METHOD:PUBLISH
BEGIN:VEVENT
DTSTART:20240228T170000
DTEND:20240228T170000
LOCATION:Filharmonia Podkarpacka ul. Chopina 30  Rzeszów
TRANSP: OPAQUE
SEQUENCE:0
UID:
DTSTAMP:20260420T213341Z
SUMMARY:prof. Waldemar Łazuga i Robert Makłowicz - spotkanie pt. Uwikłani w przeszłość. Patrzący w przyszłość
DESCRIPTION:\n\n	Wyższa Szkoła Informatyki i Zarządzania w Rzeszowie zaprasza na spotkanie z udziałem prof. Waldemara Łazugi oraz Roberta Makłowicza pt. "Uwikłani w przeszłość. Patrzący w......
URL:https://app.evenea.pl/event/historiazwsiiz/
PRIORITY:1
CLASS:PUBLIC
END:VEVENT
END:VCALENDAR
