BEGIN:VCALENDAR
VERSION:2.0
METHOD:PUBLISH
BEGIN:VEVENT
DTSTART:20230914T120000
DTEND:20230914T120000
LOCATION:online   
TRANSP: OPAQUE
SEQUENCE:0
UID:
DTSTAMP:20260425T224840Z
SUMMARY:Future Furnishing: dlaczego Bliski Wschód oferuje szansę wzrostu polskiej branży meblarskiej?
DESCRIPTION:❓ Jesteś architektem, projektantem, producentem lub sprzedawcą mebli i innych artykułów do wyposażenia wnętrz? Chciałbyś wyskalować swoją firmę i zastanawiasz się nad możliwością......
URL:https://app.evenea.pl/event/hive/
PRIORITY:1
CLASS:PUBLIC
END:VEVENT
END:VCALENDAR
