BEGIN:VCALENDAR
VERSION:2.0
METHOD:PUBLISH
BEGIN:VEVENT
DTSTART:20201219T100000
DTEND:20201219T180000
LOCATION:ON-LINE   
TRANSP: OPAQUE
SEQUENCE:0
UID:
DTSTAMP:20260425T232719Z
SUMMARY:Homeopatia jako narzędzie Recall Healing - dr Piotr Pałagin
DESCRIPTION:Święta rozpoczęte! Twój Świąteczny KOD rabatowy: MIKO2020Wysokość rabatu przypadającego na kod - znajdziesz na czapeczce Mikołaja na obrazku tytułowym:)Homeopatia jako narzędzie Recall......
URL:https://app.evenea.pl/event/homeopatia6/
PRIORITY:1
CLASS:PUBLIC
END:VEVENT
END:VCALENDAR
