BEGIN:VCALENDAR
VERSION:2.0
METHOD:PUBLISH
BEGIN:VEVENT
DTSTART:20230203T180000
DTEND:20230205T180000
LOCATION:Gdański Park Naukowo Technologiczny 3 Lipy 3  Gdańsk
TRANSP: OPAQUE
SEQUENCE:0
UID:
DTSTAMP:20260426T032412Z
SUMMARY:Hackerspace Game Jam 2023
DESCRIPTION:HACKJAMHackerspace Game Jam 2023\n\nStacjonarnie\n\n	Ogólnopolski maraton programistyczny, organizowany w ramach Global Game Jam, cyklicznej imprezy zrzeszającej co roku twórców gier na całym......
URL:https://app.evenea.pl/event/hsgamejam2023/
PRIORITY:1
CLASS:PUBLIC
END:VEVENT
END:VCALENDAR
