BEGIN:VCALENDAR
VERSION:2.0
METHOD:PUBLISH
BEGIN:VEVENT
DTSTART:20211030T100000
DTEND:20211031T180000
LOCATION:Hullo Centrum Fijewo 85a  Fijewo
TRANSP: OPAQUE
SEQUENCE:0
UID:
DTSTAMP:20260424T214053Z
SUMMARY:Hulloween | Dzień Otwarty w hullo | Weekend 30.10-31.10 | Najnowocześniejsze Centrum Rozrywki
DESCRIPTION: 🎃 Hulloween 🎃 | Dzień Otwarty w hullo już najbliższą sobotę i niedziele 30-31 Października 2021 👻Już w najbliższy weekend przygotowaliśmy dla Was Hulloween - Dzień Otwarty w......
URL:https://app.evenea.pl/event/hulloween2021/
PRIORITY:1
CLASS:PUBLIC
END:VEVENT
END:VCALENDAR
