BEGIN:VCALENDAR
VERSION:2.0
METHOD:PUBLISH
BEGIN:VEVENT
DTSTART:20190921T090000
DTEND:20190921T090000
LOCATION:   Warszawa
TRANSP: OPAQUE
SEQUENCE:0
UID:
DTSTAMP:20260419T142551Z
SUMMARY:Ogólnopolska Konferencja Izby Coachingu "Po pierwsze Człowiek. Mosty zamiast murów"
DESCRIPTION:Zapraszamy serdecznie Państwa na Konferencje główną, która odbędzie się w Warszawie 21.09.2019. Konferencji współuczestniczyć będą wydarzenia poprzedzające, jakie będą odbywać się......
URL:https://app.evenea.pl/event/ickonferencja2019/
PRIORITY:1
CLASS:PUBLIC
END:VEVENT
END:VCALENDAR
