BEGIN:VCALENDAR
VERSION:2.0
METHOD:PUBLISH
BEGIN:VEVENT
DTSTART:20241002T160000
DTEND:20241002T200000
LOCATION:Rotunda PKO Marszałkowska 100/102  Warszawa
TRANSP: OPAQUE
SEQUENCE:0
UID:
DTSTAMP:20260420T090745Z
SUMMARY:Innovation Crunch Warszawa
DESCRIPTION:Marzysz o własnym startupie? Chcesz rozwijać swoją wiedzę o AI? Ciekawi Cię jak rozwijać swój biznes?Masz konkretne pytania, ale nie masz komu ich zadać?👉 Zapraszamy na Innovation......
URL:https://app.evenea.pl/event/icwarszawa/
PRIORITY:1
CLASS:PUBLIC
END:VEVENT
END:VCALENDAR
