BEGIN:VCALENDAR
VERSION:2.0
METHOD:PUBLISH
BEGIN:VEVENT
DTSTART:20251127T170000
DTEND:20251127T170000
LOCATION:Instytut Teologiczno-Pastoralny im. św. Józefa Sebastiana Pelczara Witolda 11a  Rzeszów
TRANSP: OPAQUE
SEQUENCE:0
UID:
DTSTAMP:20260421T145827Z
SUMMARY:IDŹ PO MARZENIE - RZESZÓW (wydarzenie bezpłatne)
DESCRIPTION:Odwaga. Inspiracja. Działanie.BEZPŁATNA KONFERENCJA"Idź po marzenie" to ogólnopolska trasa bezpłatnych konferencji motywacyjnych. Naszym celem jest pokazać, że każdy - niezależnie od......
URL:https://app.evenea.pl/event/idzpomarzenie/
PRIORITY:1
CLASS:PUBLIC
END:VEVENT
END:VCALENDAR
