BEGIN:VCALENDAR
VERSION:2.0
METHOD:PUBLISH
BEGIN:VEVENT
DTSTART:20260326T170000
DTEND:20260326T170000
LOCATION:Hotel Mercure Toruń Centrum Józefa Ignacego Kraszewskiego 1/3  Toruń
TRANSP: OPAQUE
SEQUENCE:0
UID:
DTSTAMP:20260421T150007Z
SUMMARY:IDŹ PO MARZENIE - TORUŃ (wydarzenie bezpłatne)
DESCRIPTION:Odwaga. Inspiracja. Działanie.BEZPŁATNA KONFERENCJA"Idź po marzenie" to ogólnopolska trasa bezpłatnych konferencji motywacyjnych. Naszym celem jest pokazać, że każdy - niezależnie od......
URL:https://app.evenea.pl/event/idzpomarzenietorun/
PRIORITY:1
CLASS:PUBLIC
END:VEVENT
END:VCALENDAR
