BEGIN:VCALENDAR
VERSION:2.0
METHOD:PUBLISH
BEGIN:VEVENT
DTSTART:20231207T093000
DTEND:20231207T163000
LOCATION:Wydział Prawa i Administracji Uniwersytetu Gdańskiego Jana Bażyńskiego 6  Gdańsk
TRANSP: OPAQUE
SEQUENCE:0
UID:
DTSTAMP:20260420T103443Z
SUMMARY:II Kongres Edukacji Prawnej | Warsztaty
DESCRIPTION:Fundacja TENEO oraz Okręgowa Izba Radców Prawnych w Gdańsku we współpracy z Wydziałem Prawa i Administracji UG serdecznie zaprasza do wzięcia udziału w II Kongresie Edukacji Prawnej......
URL:https://app.evenea.pl/event/iikepwarsztaty/
PRIORITY:1
CLASS:PUBLIC
END:VEVENT
END:VCALENDAR
