BEGIN:VCALENDAR
VERSION:2.0
METHOD:PUBLISH
BEGIN:VEVENT
DTSTART:20241121T160000
DTEND:20241121T193000
LOCATION:SGGW, Budynek Technologii Żywności i Żywienia Człowieka, sala nr 9, budynek 32 Nowoursynowska 159c  Warszawa
TRANSP: OPAQUE
SEQUENCE:0
UID:
DTSTAMP:20260419T141536Z
SUMMARY:📣 Warsztaty liderskie i granty na rozwój Twojego pomysłu 🌍💚 - ImpactFood Day SGGW w Warszawie
DESCRIPTION:Chcesz zdobyć cenne umiejętności i uzyskać granty na swój projekt społeczny? Zarezerwuj miejsce i wpadnij na warsztaty ImpactFood Days w 🌍💚Wspieramy młodych działaczy, liderów i......
URL:https://app.evenea.pl/event/iimpactfood-day-sggw-warszawa/
PRIORITY:1
CLASS:PUBLIC
END:VEVENT
END:VCALENDAR
