BEGIN:VCALENDAR
VERSION:2.0
METHOD:PUBLISH
BEGIN:VEVENT
DTSTART:20230925T090000
DTEND:20230926T173000
LOCATION:Klub STUDIO na terenie kampusu AGH Witolda Budryka 4, 30-072  Kraków
TRANSP: OPAQUE
SEQUENCE:0
UID:
DTSTAMP:20260423T174859Z
SUMMARY:I Kongres Energetyki Rozproszonej
DESCRIPTION:\n\n\n\nRejestracja na wydarzenia KER 2023 została zakończonaZapraszamy na I Kongres Energetyki Rozproszonej (KER), który odbędzie się w dniach 25-26 września 2023 r. na terenie kampusu AGH.......
URL:https://app.evenea.pl/event/iker/
PRIORITY:1
CLASS:PUBLIC
END:VEVENT
END:VCALENDAR
