BEGIN:VCALENDAR
VERSION:2.0
METHOD:PUBLISH
BEGIN:VEVENT
DTSTART:20200226T100000
DTEND:20200226T140000
LOCATION:inQUBE Uniwersytecki Inkubator Przedsiębiorczości Wielka 67  Wrocław
TRANSP: OPAQUE
SEQUENCE:0
UID:
DTSTAMP:20260420T013825Z
SUMMARY:Ile warte jest Twoje know-how? Identyfikacja, wycena i komercjalizacja własności intelektualnej w przedsiębiorstwie
DESCRIPTION:Ile warte jest Twoje know-how - m.in. na to pytanie odpowiedzią eksperci: Grzegorz Jajuga i Stanisław Rogoziński w inQUBE Uniwersyteckim Inkubatorze Przedsiębiorczości. To interesujące......
URL:https://app.evenea.pl/event/ilewartejesttwojeknowhow/
PRIORITY:1
CLASS:PUBLIC
END:VEVENT
END:VCALENDAR
