BEGIN:VCALENDAR
VERSION:2.0
METHOD:PUBLISH
BEGIN:VEVENT
DTSTART:20251031T170000
DTEND:20251031T190000
LOCATION:Sala Zabaw Dzikie Pląsy ul. Klasyczna 2/2  Borkowo
TRANSP: OPAQUE
SEQUENCE:0
UID:
DTSTAMP:20260424T091841Z
SUMMARY:Halloween - Imprezka z dreszczykiem (5-8 lat) Borkowo
DESCRIPTION:Upiornych, żądnych wrażeń rozbójników zapraszamy na:Imprezkę z dreszczykiem31 października/piątekGodz. 17:00-19:00Grupa 5-8 latW programie m.in.mroczne zabawy z siecią pajęcząupiorne......
URL:https://app.evenea.pl/event/imprezka-z-dreszczykiem-2025/
PRIORITY:1
CLASS:PUBLIC
END:VEVENT
END:VCALENDAR
