BEGIN:VCALENDAR
VERSION:2.0
METHOD:PUBLISH
BEGIN:VEVENT
DTSTART:20251127T134000
DTEND:20251127T143000
LOCATION:Wydział Farmaceutyczny Uniwersytetu Medycznego we Wrocławiu (sala S1) Borowska 211 (sala S1)  Wrocław
TRANSP: OPAQUE
SEQUENCE:0
UID:
DTSTAMP:20260422T203834Z
SUMMARY:Warsztaty "Benefits of InnoSurvey for healthcare organizations"
DESCRIPTION:Warsztat polegać będzie na prezentacji metody oceny potencjału w zakresie wdrażania innowacji w różnorodnych instytucjach w oparciu o wykorzystanie opatentowanej, dedykowanej metody......
URL:https://app.evenea.pl/event/innosurvey/
PRIORITY:1
CLASS:PUBLIC
END:VEVENT
END:VCALENDAR
