BEGIN:VCALENDAR
VERSION:2.0
METHOD:PUBLISH
BEGIN:VEVENT
DTSTART:20240126T150000
DTEND:20240126T150000
LOCATION:Rotunda PKO ul. Marszałkowska 100/102  Warszawa
TRANSP: OPAQUE
SEQUENCE:0
UID:
DTSTAMP:20260421T012024Z
SUMMARY:Innovation Crunch
DESCRIPTION:Innovation Crunch by TeenCrunch po raz pierwszy ma przyjemność zaprosić Cię na event!Innovation Crunch daję niesamowitą okazję do posłuchania wybitnych prelegentów w swojej dziedzinie. W......
URL:https://app.evenea.pl/event/innovation-crunch/
PRIORITY:1
CLASS:PUBLIC
END:VEVENT
END:VCALENDAR
