BEGIN:VCALENDAR
VERSION:2.0
METHOD:PUBLISH
BEGIN:VEVENT
DTSTART:20240627T090000
DTEND:20240627T120000
LOCATION:Uniwersytecki Inkubator Przedsiębiorczości inQUBE Wielka 67  Wrocław
TRANSP: OPAQUE
SEQUENCE:0
UID:
DTSTAMP:20260425T134339Z
SUMMARY:inQUBE Breakfast
DESCRIPTION:Zapraszamy na ostatnie przed wakacjami spotkanie z cyklu inQUBE Breakfast! 💚 Tym razem skupimy się na rzeczach naprawdę ważnych i zadamy sobie pytanie, czy work-life balance w startupie jest......
URL:https://app.evenea.pl/event/inqubebreakfastczerwiec2024/
PRIORITY:1
CLASS:PUBLIC
END:VEVENT
END:VCALENDAR
